View In:
ArcGIS JavaScript
ArcGIS Online Map Viewer
ArcGIS Earth
ArcGIS Pro
Service Description:
Map Name: Map
Legend
All Layers and Tables
Layers:
Description:
Service Item Id: a33b9488fc1146848bb828a05a989835
Copyright Text:
Spatial Reference:
102100
(3857)
Single Fused Map Cache: true
Tile Info:
- Height: 256.0
- Width: 256.0
- DPI: 96.0
-
Levels of Detail: 24
-
Level ID: 0
[ Start Tile, End Tile ]
- Resolution: 156543.03392799999
- Scale: 591657527.591555
-
Level ID: 1
[ Start Tile, End Tile ]
- Resolution: 78271.5169639998931
- Scale: 295828763.795777023
-
Level ID: 2
[ Start Tile, End Tile ]
- Resolution: 39135.7584820000993
- Scale: 147914381.897888988
-
Level ID: 3
[ Start Tile, End Tile ]
- Resolution: 19567.8792409999005
- Scale: 73957190.9489440024
-
Level ID: 4
[ Start Tile, End Tile ]
- Resolution: 9783.93962049995935
- Scale: 36978595.4744720012
-
Level ID: 5
[ Start Tile, End Tile ]
- Resolution: 4891.96981024997967
- Scale: 18489297.7372360006
-
Level ID: 6
[ Start Tile, End Tile ]
- Resolution: 2445.98490512498984
- Scale: 9244648.8686180003
-
Level ID: 7
[ Start Tile, End Tile ]
- Resolution: 1222.99245256248992
- Scale: 4622324.43430900015
-
Level ID: 8
[ Start Tile, End Tile ]
- Resolution: 611.496226281380018
- Scale: 2311162.21715500019
-
Level ID: 9
[ Start Tile, End Tile ]
- Resolution: 305.748113140558019
- Scale: 1155581.108577
-
Level ID: 10
[ Start Tile, End Tile ]
- Resolution: 152.874056570411
- Scale: 577790.554288999992
-
Level ID: 11
[ Start Tile, End Tile ]
- Resolution: 76.4370282850731968
- Scale: 288895.277143999992
-
Level ID: 12
[ Start Tile, End Tile ]
- Resolution: 38.2185141425365984
- Scale: 144447.638572
-
Level ID: 13
[ Start Tile, End Tile ]
- Resolution: 19.1092570712682992
- Scale: 72223.8192859999981
-
Level ID: 14
[ Start Tile, End Tile ]
- Resolution: 9.5546285356341496
- Scale: 36111.9096429999991
-
Level ID: 16
[ Start Tile, End Tile ]
- Resolution: 2.38865713397468
- Scale: 9027.97741099999985
-
Level ID: 17
[ Start Tile, End Tile ]
- Resolution: 1.1943285668550501
- Scale: 4513.98870499999975
-
Level ID: 19
[ Start Tile, End Tile ]
- Resolution: 0.29858214164761698
- Scale: 1128.49717600000008
-
Level ID: 20
[ Start Tile, End Tile ]
- Resolution: 0.14929107082380833
- Scale: 564.248588000000041
-
Level ID: 21
[ Start Tile, End Tile ]
- Resolution: 0.074645535411904163
- Scale: 282.12429400000002
-
Level ID: 22
[ Start Tile, End Tile ]
- Resolution: 0.037322767705952081
- Scale: 141.06214700000001
-
Level ID: 23
[ Start Tile, End Tile ]
- Resolution: 0.018661383852976041
- Scale: 70.5310735000000051
- Format: Mixed
- Compression Quality: 75.0
- Origin: X: -2.0037508342787E7
Y: 2.0037508342787E7
- Spatial Reference: 102100
(3857)
Storage Info:
- Storage Format: esriMapCacheStorageModeCompactV2
- Packet Size: 128
Initial Extent:
XMin: 1.1285855826685373E7
YMin: 1638.3579661790325
XMax: 1.129179363774693E7
YMax: 6582.17184593427
Spatial Reference: 102100
(3857)
Full Extent:
XMin: 1.1286125848494645E7
YMin: 1863.233337775394
XMax: 1.1291523616451351E7
YMax: 6357.11850617826
Spatial Reference: 102100
(3857)
Units: esriMeters
Supported Image Format Types: PNG32,PNG24,PNG,JPG,DIB,TIFF,EMF,PS,PDF,GIF,SVG,SVGZ,BMP
Document Info:
Title: Map
Author:
Comments:
Subject:
Category:
Keywords:
AntialiasingMode: None
TextAntialiasingMode: Force
Supports Dynamic Layers: false
MaxRecordCount: 1000
MaxSelectionCount: 2000
MaxImageHeight: 4096
MaxImageWidth: 4096
Supported Query Formats: JSON, geoJSON, PBF
Supports Query Data Elements: true
Min Scale: 40000
Max Scale: 5000
Min LOD: 14
Max LOD: 17
Supports Datum Transformation: true
Child Resources:
Info
Supported Operations:
QueryLegends
EstimateExportTilesSize
ExportTiles
Return Updates